BEGIN:VCALENDAR
VERSION:2.0
PRODID:-//Tukios.com/
BEGIN:VEVENT
UID:433092c2-d724-44df-b6b9-3f188ca5200a@www.ueckerwitt.com
DTSTAMP:20260420T133826Z
DTSTART:20260423T203000Z
DTEND:20260423T223000Z
SUMMARY:Visitation
DESCRIPTION:
URL:https://www.ueckerwitt.com/obituaries/donna-suszek
LOCATION:Uecker-Witt Funeral Home 524 N Park Ave  Fond du Lac WI 54935
GEO:43.7936085;-88.4397298
END:VEVENT
END:VCALENDAR