BEGIN:VCALENDAR
VERSION:2.0
PRODID:-//Tukios.com/
BEGIN:VEVENT
UID:a5ebcb36-3c0a-4021-b28f-e2aafca3d062@www.ueckerwitt.com
DTSTAMP:20260420T133910Z
DTSTART:20260423T223000Z
DTEND:20260423T233000Z
SUMMARY:Funeral Service
DESCRIPTION:
URL:https://www.ueckerwitt.com/obituaries/donna-suszek
LOCATION:Uecker-Witt Funeral Home 524 N Park Ave  Fond du Lac WI 54935
GEO:43.7936085;-88.4397298
END:VEVENT
END:VCALENDAR