BEGIN:VCALENDAR
VERSION:2.0
PRODID:-//Tukios.com/
BEGIN:VEVENT
UID:00e62520-936d-4cb0-ac75-108bdc5e2a69@www.ueckerwitt.com
DTSTAMP:20260423T185310Z
DTSTART:20260530T180000Z
DTEND:20260530T200000Z
SUMMARY:Visitation
DESCRIPTION:
URL:https://www.ueckerwitt.com/obituaries/jeffery-sandmayr
LOCATION:Uecker-Witt Funeral Home 524 N Park Ave  Fond du Lac WI 54935
GEO:43.7936085;-88.4397298
END:VEVENT
END:VCALENDAR