BEGIN:VCALENDAR
VERSION:2.0
PRODID:-//Tukios.com/
BEGIN:VEVENT
UID:5bbcce2d-ce07-4231-86c8-1af4143dc9c3@www.ueckerwitt.com
DTSTAMP:20260423T185623Z
DTSTART:20260530T200000Z
DTEND:20260530T210000Z
SUMMARY:Funeral Service
DESCRIPTION:
URL:https://www.ueckerwitt.com/obituaries/jeffery-sandmayr
LOCATION:Uecker-Witt Funeral Home 524 N Park Ave  Fond du Lac WI 54935
GEO:43.7936085;-88.4397298
END:VEVENT
END:VCALENDAR