BEGIN:VCALENDAR
VERSION:2.0
PRODID:-//Tukios.com/
BEGIN:VEVENT
UID:6fd18592-793e-4dc8-9791-4f9f68a1668b@www.ueckerwitt.com
DTSTAMP:20260420T231443Z
DTSTART:20260423T150000Z
DTEND:20260423T170000Z
SUMMARY:Visitation
DESCRIPTION:
URL:https://www.ueckerwitt.com/obituaries/kevin-dalka
LOCATION:Uecker-Witt Funeral Home 524 N Park Ave  Fond du Lac WI 54935
GEO:43.7936085;-88.4397298
END:VEVENT
END:VCALENDAR