BEGIN:VCALENDAR
VERSION:2.0
PRODID:-//Tukios.com/
BEGIN:VEVENT
UID:e63eb421-1dc1-46ab-a1f6-379d8f7dc947@www.ueckerwitt.com
DTSTAMP:20260423T205720Z
DTSTART:20260427T153000Z
DTEND:20260427T163000Z
SUMMARY:Visitation
DESCRIPTION:
URL:https://www.ueckerwitt.com/obituaries/lorraine-seering
LOCATION:Faith Lutheran Church 55 Prairie Road  Fond du Lac WI 54935
GEO:43.779362;-88.4117959
END:VEVENT
END:VCALENDAR