BEGIN:VCALENDAR
VERSION:2.0
PRODID:-//Tukios.com/
BEGIN:VEVENT
UID:154533a2-5101-4d22-a504-36edcc1d83d7@www.ueckerwitt.com
DTSTAMP:20260423T205625Z
DTSTART:20260427T163000Z
DTEND:20260427T173000Z
SUMMARY:Funeral Service
DESCRIPTION:
URL:https://www.ueckerwitt.com/obituaries/lorraine-seering
LOCATION:Faith Lutheran Church 55 Prairie Road  Fond du Lac WI 54935
GEO:43.779362;-88.4117959
END:VEVENT
END:VCALENDAR