BEGIN:VCALENDAR
VERSION:2.0
PRODID:-//Tukios.com/
BEGIN:VEVENT
UID:49ed9a50-f6c8-40d7-8019-512413fae3c1@www.ueckerwitt.com
DTSTAMP:20260422T233225Z
DTSTART:20260425T170000Z
DTEND:20260425T174500Z
SUMMARY:Funeral Service
DESCRIPTION:
URL:https://www.ueckerwitt.com/obituaries/ronald-rowe
LOCATION: W1562 County Road B  Eden WI 53019
GEO:43.6983152;-88.2329585
END:VEVENT
END:VCALENDAR