BEGIN:VCALENDAR
VERSION:2.0
PRODID:-//Tukios.com/
BEGIN:VEVENT
UID:1c7cef17-c576-454f-9c8d-cdb58af47e1d@www.ueckerwitt.com
DTSTAMP:20260422T233720Z
DTSTART:20260425T150000Z
DTEND:20260425T170000Z
SUMMARY:Visitation
DESCRIPTION:
URL:https://www.ueckerwitt.com/obituaries/ronald-rowe
LOCATION: W1562 County Road B  Eden WI 53019
GEO:43.6983152;-88.2329585
END:VEVENT
END:VCALENDAR