BEGIN:VCALENDAR
VERSION:2.0
PRODID:-//Tukios.com/
BEGIN:VEVENT
UID:4f547175-0918-459e-9e3a-f4dee2008f6f@www.ueckerwitt.com
DTSTAMP:20260425T011841Z
DTSTART:20260502T153000Z
DTEND:20260502T171500Z
SUMMARY:Visitation
DESCRIPTION:
URL:https://www.ueckerwitt.com/obituaries/steven-mcauly
LOCATION: 524 N Park Ave  Fond du Lac WI 54935
GEO:43.7936085;-88.4397298
END:VEVENT
END:VCALENDAR