BEGIN:VCALENDAR
VERSION:2.0
PRODID:-//Tukios.com/
BEGIN:VEVENT
UID:d76e4609-ebb2-4026-9733-d4422a72e2db@www.ueckerwitt.com
DTSTAMP:20260425T011623Z
DTSTART:20260502T171500Z
DTEND:20260502T173000Z
SUMMARY:Memorial Service
DESCRIPTION:
URL:https://www.ueckerwitt.com/obituaries/steven-mcauly
LOCATION: 524 N Park Ave  Fond du Lac WI 54935
GEO:43.7936085;-88.4397298
END:VEVENT
END:VCALENDAR